BEGIN:VCALENDAR
VERSION:2.0
PRODID:-//chikkutakku.com//RDFCal 1.0//EN
X-WR-CALDESC:GoogleカレンダーやiCalendar形式情報を共有シェ
 アしましょう。近所のイベントから全国のイベントま
 で今日のイベント検索やスケジュールを決めるならち
 っくたっく
X-WR-CALNAME:ちっくたっく
X-WR-TIMEZONE:UTC
BEGIN:VEVENT
SUMMARY:司法試験予備試験論文本試験科目別・A答案再現
 ＆ぶんせき本（令和7年版）
DTSTART;VALUE=DATE:20260429
DTEND;VALUE=DATE:20260430
UID:629027274995
DESCRIPTION:2026-04司法試験予備試験論文本試験科目別・A答
 案再現＆ぶんせき本（令和7年版）辰已法律研究所
LOCATION:
END:VEVENT
END:VCALENDAR
