BEGIN:VCALENDAR
VERSION:2.0
PRODID:-//chikkutakku.com//RDFCal 1.0//EN
X-WR-CALDESC:GoogleカレンダーやiCalendar形式情報を共有シェ
 アしましょう。近所のイベントから全国のイベントま
 で今日のイベント検索やスケジュールを決めるならち
 っくたっく
X-WR-CALNAME:ちっくたっく
X-WR-TIMEZONE:UTC
BEGIN:VEVENT
SUMMARY:2026年度 貸金主任者試験分野別 精選過去問解説集
DTSTART;VALUE=DATE:20260519
DTEND;VALUE=DATE:20260520
UID:632171943185
DESCRIPTION:2026-05-202026年度 貸金主任者試験分野別 精選過
 去問解説集石川 貴教/池田 和世/西村 晃一/吉元 利行金
 融財政事情研究会
LOCATION:
END:VEVENT
END:VCALENDAR
