BEGIN:VCALENDAR
VERSION:2.0
PRODID:-//chikkutakku.com//RDFCal 1.0//EN
X-WR-CALDESC:GoogleカレンダーやiCalendar形式情報を共有シェ
 アしましょう。近所のイベントから全国のイベントま
 で今日のイベント検索やスケジュールを決めるならち
 っくたっく
X-WR-CALNAME:ちっくたっく
X-WR-TIMEZONE:UTC
BEGIN:VEVENT
SUMMARY:ひかるん集会
DTSTART;VALUE=DATE-TIME:20260425T120000Z
DTEND;VALUE=DATE-TIME:20260425T130000Z
UID:632520201596
DESCRIPTION:【イベント主催者】\n　ひかるん集会\n【イベ
 ント内容】\n　くるるしっぽ制作アバターひかるんのア
 バター集会\n【イベントジャンル】\n　改変アバター交
 流会\n【参加条件（モデル、人数制限など）】\n　• ア
 バターはひかるん\n• 未改変 • サンプルアバターの参
 加OK\n• アバター容量50MB以下\n【参加方法】\n　事前に
 グループひかるん集会(HKRN.9587)に参加して、時間になっ
 たらグループ＋インスタンスへJOIN\n【備考】\n　
LOCATION:
END:VEVENT
END:VCALENDAR
