BEGIN:VCALENDAR
VERSION:2.0
PRODID:-//chikkutakku.com//RDFCal 1.0//EN
X-WR-CALDESC:GoogleカレンダーやiCalendar形式情報を共有シェ
 アしましょう。近所のイベントから全国のイベントま
 で今日のイベント検索やスケジュールを決めるならち
 っくたっく
X-WR-CALNAME:ちっくたっく
X-WR-TIMEZONE:UTC
BEGIN:VEVENT
SUMMARY:保育内容(環境) (角田/西野) 301.畑
DTSTART;VALUE=DATE-TIME:20260422T065000Z
DTEND;VALUE=DATE-TIME:20260422T082000Z
UID:634649356690
DESCRIPTION:保育内容(環境) (角田/西野) 301.畑
LOCATION:
END:VEVENT
END:VCALENDAR
