BEGIN:VCALENDAR
VERSION:2.0
PRODID:-//chikkutakku.com//RDFCal 1.0//EN
X-WR-CALDESC:GoogleカレンダーやiCalendar形式情報を共有シェ
 アしましょう。近所のイベントから全国のイベントま
 で今日のイベント検索やスケジュールを決めるならち
 っくたっく
X-WR-CALNAME:ちっくたっく
X-WR-TIMEZONE:UTC
BEGIN:VEVENT
SUMMARY:はじめての水晶玉占い 入門編
DTSTART;VALUE=DATE:20260430
DTEND;VALUE=DATE:20260501
UID:638362931994
DESCRIPTION:2026-05-01はじめての水晶玉占い 入門編増井サリ
 ン説話社
LOCATION:
END:VEVENT
END:VCALENDAR
