BEGIN:VCALENDAR
VERSION:2.0
PRODID:-//chikkutakku.com//RDFCal 1.0//EN
X-WR-CALDESC:GoogleカレンダーやiCalendar形式情報を共有シェ
 アしましょう。近所のイベントから全国のイベントま
 で今日のイベント検索やスケジュールを決めるならち
 っくたっく
X-WR-CALNAME:ちっくたっく
X-WR-TIMEZONE:UTC
BEGIN:VEVENT
SUMMARY:11:00神戸セーラーボーイズ
DTSTART;VALUE=DATE:20260424
DTEND;VALUE=DATE:20260425
UID:642167662834
DESCRIPTION:神戸セーラーボーイズ キズナLIVE！ in 神戸ハ
 ーバーランドｕｍｉｅ 2026日程2026/04/25(土)時間［1］11:00
 〜［2］13:00〜［3］15:00〜（各回約20分）場所センタース
 トリート1F 中央特設会場ミニライブ開催決定
LOCATION:
END:VEVENT
END:VCALENDAR
