BEGIN:VCALENDAR
VERSION:2.0
PRODID:-//chikkutakku.com//RDFCal 1.0//EN
X-WR-CALDESC:GoogleカレンダーやiCalendar形式情報を共有シェ
 アしましょう。近所のイベントから全国のイベントま
 で今日のイベント検索やスケジュールを決めるならち
 っくたっく
X-WR-CALNAME:ちっくたっく
X-WR-TIMEZONE:UTC
BEGIN:VEVENT
SUMMARY:異世界町工場無双　～信頼と実績の異世界征服～
 （６）
DTSTART;VALUE=DATE:20260422
DTEND;VALUE=DATE:20260423
UID:643822915530
DESCRIPTION:2026-04-23異世界町工場無双　～信頼と実績の異
 世界征服～（６）見ル野栄司/アビディ井上講談社
LOCATION:
END:VEVENT
END:VCALENDAR
