BEGIN:VCALENDAR
VERSION:2.0
PRODID:-//chikkutakku.com//RDFCal 1.0//EN
X-WR-CALDESC:GoogleカレンダーやiCalendar形式情報を共有シェ
 アしましょう。近所のイベントから全国のイベントま
 で今日のイベント検索やスケジュールを決めるならち
 っくたっく
X-WR-CALNAME:ちっくたっく
X-WR-TIMEZONE:UTC
BEGIN:VEVENT
SUMMARY:【Android 対応】BAR PANCHIMI
DTSTART;VALUE=DATE-TIME:20260421T120000Z
DTEND;VALUE=DATE-TIME:20260421T130000Z
UID:644098239244
DESCRIPTION:【イベント主催者】\n　たけ＝Take99\n【イベン
 ト内容】\n　シンプルなBARイベント BAR PANCHIMI\nパンダチ
 ミーというキャストがいます。（オーナーではない）\n
 ゆったりとお酒や会話を楽しめる場所、話さなくても
 雰囲気が好きな方も歓迎です！接客態度は少し悪いで
 す✌️\n他のお店では見たことないドリンクが沢山あり
 ます！\n【イベントジャンル】\n　その他交流会\, VR飲
 み会\, 初心者向けイベント\, 定期イベント\n【参加条件
 （モデル、人数制限など）】\n　インスタンス人数18人
 （キャスト3名を含む）\n【参加方法】\n　グループに参
 加！ インスタンスはグループプラスなのでフレンド読
 んでもOK \n【備考】\n　
LOCATION:
END:VEVENT
END:VCALENDAR
