BEGIN:VCALENDAR
VERSION:2.0
PRODID:-//chikkutakku.com//RDFCal 1.0//EN
X-WR-CALDESC:GoogleカレンダーやiCalendar形式情報を共有シェ
 アしましょう。近所のイベントから全国のイベントま
 で今日のイベント検索やスケジュールを決めるならち
 っくたっく
X-WR-CALNAME:ちっくたっく
X-WR-TIMEZONE:UTC
BEGIN:VEVENT
SUMMARY:(รองฯพวงแก้ว)เชิญเข้าร่
 วมประชุมคณะอนุกรรมการส่ง
 เสริมและพัฒนาคุณภาพชีวิต
 คนพิการประจำจังหวัดสมุทร
 สงคราม
DTSTART;VALUE=DATE-TIME:20260512T023000Z
DTEND;VALUE=DATE-TIME:20260512T050000Z
UID:644968386451
DESCRIPTION:(รองฯพวงแก้ว)เชิญเข้าร
 ่วมประชุมคณะอนุกรรมการส่
 งเสริมและพัฒนาคุณภาพชีวิ
 ตคนพิการประจำจังหวัดสมุท
 รสงคราม
LOCATION:ณ ห้องประชุมอัมพวา ชั้น
 4 ศาลากลางจังหวัดสมุทรสงคร
 าม
END:VEVENT
END:VCALENDAR
