BEGIN:VCALENDAR
VERSION:2.0
PRODID:-//chikkutakku.com//RDFCal 1.0//EN
X-WR-CALDESC:GoogleカレンダーやiCalendar形式情報を共有シェ
 アしましょう。近所のイベントから全国のイベントま
 で今日のイベント検索やスケジュールを決めるならち
 っくたっく
X-WR-CALNAME:ちっくたっく
X-WR-TIMEZONE:UTC
BEGIN:VEVENT
SUMMARY:ICS 100 - Bellevue (Crowsnest Pass) [FULL]
DTSTART;VALUE=DATE-TIME:20260513T143000Z
DTEND;VALUE=DATE-TIME:20260513T210000Z
UID:648172741317
DESCRIPTION:MDM Community Center2802 222 StBellevue\, ABContact: Patrick T
 homas\, CAO/DEM403-562-8833patrick.thomas@crowsnestpass.comNotes: This cou
 rse has reached maximum capacity.
LOCATION:MDM Community Center\, 2802 222 St\, Bellevue\, AB T0K 0E0\, Cana
 da
END:VEVENT
END:VCALENDAR
