BEGIN:VCALENDAR
VERSION:2.0
PRODID:-//chikkutakku.com//RDFCal 1.0//EN
X-WR-CALDESC:GoogleカレンダーやiCalendar形式情報を共有シェ
 アしましょう。近所のイベントから全国のイベントま
 で今日のイベント検索やスケジュールを決めるならち
 っくたっく
X-WR-CALNAME:ちっくたっく
X-WR-TIMEZONE:UTC
BEGIN:VEVENT
SUMMARY:カクテルラウンジむらさき（VRCオーセンティック
 バー）
DTSTART;VALUE=DATE-TIME:20260421T125500Z
DTEND;VALUE=DATE-TIME:20260421T143000Z
UID:653797746535
DESCRIPTION:【イベント主催者】\n　ゆかりずむ\n【イベン
 ト内容】\n　オーセンティックなバーで、カクテルやバ
 ーテンダーとのお話しをお楽しみいただけます。\nGroup+
 にて開催、途中入退出自由となっております。\n【イベ
 ントジャンル】\n　店舗系イベント\n【参加条件（モデ
 ル、人数制限など）】\n　最大16人\n【参加方法】\n　事
 前にグループ「むらさきれすとらんお客様専用＠VRC接
 客イベント」に参加していただき、インスタンスが開
 いたらjoinください。Group+での開催ですので、お連れ様
 のどなたかが参加していただければ入場可能となりま
 す。\n【備考】\n　カウンター席4席のお部屋が4部屋ご
 ざいます。お連れ様が4名を超える場合は、別々のお部
 屋へのご案内か、立ち飲みでのご案内となります。\nま
 た、先にご案内したお客様の人数によっても部屋割り
 が変動いたします。\n\n公式X「@Murasaki_Rest」\ngroup「https:
 //vrc.group/MRGUES.4289」
LOCATION:
END:VEVENT
END:VCALENDAR
