BEGIN:VCALENDAR
VERSION:2.0
PRODID:-//chikkutakku.com//RDFCal 1.0//EN
X-WR-CALDESC:GoogleカレンダーやiCalendar形式情報を共有シェ
 アしましょう。近所のイベントから全国のイベントま
 で今日のイベント検索やスケジュールを決めるならち
 っくたっく
X-WR-CALNAME:ちっくたっく
X-WR-TIMEZONE:UTC
BEGIN:VEVENT
SUMMARY:CSB and Biochemistry Joint Special Seminar: Xiang (David) Li\, PhD
DTSTART;VALUE=DATE-TIME:20260508T190000Z
DTEND;VALUE=DATE-TIME:20260508T200000Z
UID:655101832940
DESCRIPTION:CSB and Biochemistry Joint Special Seminar: Xiang (David) Li\,
  PhD
LOCATION:LK130 
END:VEVENT
END:VCALENDAR
