BEGIN:VCALENDAR
VERSION:2.0
PRODID:-//chikkutakku.com//RDFCal 1.0//EN
X-WR-CALDESC:GoogleカレンダーやiCalendar形式情報を共有シェ
 アしましょう。近所のイベントから全国のイベントま
 で今日のイベント検索やスケジュールを決めるならち
 っくたっく
X-WR-CALNAME:ちっくたっく
X-WR-TIMEZONE:UTC
BEGIN:VEVENT
SUMMARY:髙橋真生＠ひなたクレープハウス果実の星野屋 
 新店舗開店記念Special Live
DTSTART;VALUE=DATE-TIME:20260503T050000Z
DTEND;VALUE=DATE-TIME:20260503T060000Z
UID:658787394293
DESCRIPTION:日時:2026年5月3日(日)場所:クレープハウス果実
 の星野屋https://maps.app.goo.gl/kEK6vyw1YnfuCLFG7?g_st=ic14:00〜入
 場無料！ひなたゲスト：高橋真生、かわぐっち
LOCATION:クレープハウス果実の星野屋\, 日本、〒947-0028 
 新潟県小千谷市城内１丁目５−２０
END:VEVENT
END:VCALENDAR
