BEGIN:VCALENDAR
VERSION:2.0
PRODID:-//chikkutakku.com//RDFCal 1.0//EN
X-WR-CALDESC:GoogleカレンダーやiCalendar形式情報を共有シェ
 アしましょう。近所のイベントから全国のイベントま
 で今日のイベント検索やスケジュールを決めるならち
 っくたっく
X-WR-CALNAME:ちっくたっく
X-WR-TIMEZONE:UTC
BEGIN:VEVENT
SUMMARY:R03 - Pharmaceuticals regulations  - Helder Mota Felipe
DTSTART;VALUE=DATE-TIME:20260510T220000Z
DTEND;VALUE=DATE-TIME:20260513T220000Z
UID:662904485531
DESCRIPTION:R03 - Pharmaceuticals regulations  - Helder Mota Felipe
LOCATION:Aula 1I - Ue1 Campus Navile
END:VEVENT
END:VCALENDAR
