BEGIN:VCALENDAR
VERSION:2.0
PRODID:-//chikkutakku.com//RDFCal 1.0//EN
X-WR-CALDESC:GoogleカレンダーやiCalendar形式情報を共有シェ
 アしましょう。近所のイベントから全国のイベントま
 で今日のイベント検索やスケジュールを決めるならち
 っくたっく
X-WR-CALNAME:ちっくたっく
X-WR-TIMEZONE:UTC
BEGIN:VEVENT
SUMMARY:最新医学が教える 体細胞が20歳若返る食べ方
DTSTART;VALUE=DATE:20260513
DTEND;VALUE=DATE:20260514
UID:665440817933
DESCRIPTION:2026-05-14最新医学が教える 体細胞が20歳若返る
 食べ方栗原 毅/牧田 善二/溝口 徹/ほか宝島社
LOCATION:
END:VEVENT
END:VCALENDAR
