BEGIN:VCALENDAR
VERSION:2.0
PRODID:-//chikkutakku.com//RDFCal 1.0//EN
X-WR-CALDESC:GoogleカレンダーやiCalendar形式情報を共有シェ
 アしましょう。近所のイベントから全国のイベントま
 で今日のイベント検索やスケジュールを決めるならち
 っくたっく
X-WR-CALNAME:ちっくたっく
X-WR-TIMEZONE:UTC
BEGIN:VEVENT
SUMMARY:Toah発売1周年記念集会
DTSTART;VALUE=DATE-TIME:20260425T130000Z
DTEND;VALUE=DATE-TIME:20260425T140000Z
UID:677932031888
DESCRIPTION:【イベント主催者】\n　とるとと\n【イベント
 内容】\n　3Dアバター『Toah -トア-』の発売一周年記念集
 会です！\n今回は発売1周年を記念したノベルティもご
 用意しています！\n普段からToahくんを使っている方は
 もちろん、「持っているけど出す機会がなかなかない
 」「気になっているけどまだ購入していない」という
 方も大歓迎です。お気軽にご参加ください！\n【イベン
 トジャンル】\n　改変アバター交流会\n【参加条件（モ
 デル、人数制限など）】\n　イベント中は3Dアバター『T
 oah -トア-』を使用していただくことが参加条件です。\n
 人数上限:1インスタンスあたり40名程度\nアバターサイ
 ズ:上限50MB\n\n※改変の有無、サンプルアバターの使用
 は問いません。\n【参加方法】\n　Group+インスタンスで
 開催します! (TOAH.2498)\n【備考】\n　Toah集会関連各種リ
 ンク\n集会Group：https://vrc.group/TOAH.2498\nX(旧Twitter)：https:/
 /x.com/Toah_shukai\ndiscord：https://discord.gg/PrzBWXmNZG
LOCATION:
END:VEVENT
END:VCALENDAR
