BEGIN:VCALENDAR
VERSION:2.0
PRODID:-//chikkutakku.com//RDFCal 1.0//EN
X-WR-CALDESC:GoogleカレンダーやiCalendar形式情報を共有シェ
 アしましょう。近所のイベントから全国のイベントま
 で今日のイベント検索やスケジュールを決めるならち
 っくたっく
X-WR-CALNAME:ちっくたっく
X-WR-TIMEZONE:UTC
BEGIN:VEVENT
SUMMARY:U19A\, U16A\, U15A and U14A Hockey Teams Versus Paul Roos Gymnasiu
 m (A)
DTSTART;VALUE=DATE-TIME:20260520T133000Z
DTEND;VALUE=DATE-TIME:20260520T183000Z
UID:681359056842
DESCRIPTION:U19A\, U16A\, U15A and U14A Hockey Teams Versus Paul Roos Gymn
 asium (A)
LOCATION:Paul Roos Gimnasium\, 311 Suidwal Rd\, Krigeville\, Stellenbosch\
 , 7600\, South Africa
END:VEVENT
END:VCALENDAR
