BEGIN:VCALENDAR
VERSION:2.0
PRODID:-//chikkutakku.com//RDFCal 1.0//EN
X-WR-CALDESC:GoogleカレンダーやiCalendar形式情報を共有シェ
 アしましょう。近所のイベントから全国のイベントま
 で今日のイベント検索やスケジュールを決めるならち
 っくたっく
X-WR-CALNAME:ちっくたっく
X-WR-TIMEZONE:UTC
BEGIN:VEVENT
SUMMARY:JuliaHEP 2026 planning meeting
DTSTART;VALUE=DATE-TIME:20260423T140000Z
DTEND;VALUE=DATE-TIME:20260423T150000Z
UID:686708237899
DESCRIPTION:Event URL: https://indico.cern.ch/event/1678226/\n\nPlanning m
 eeting for organisers and contributors to the JuliaHEP 2026 event.\n\nhttp
 s://indico.cern.ch/event/1678226/\n\nZoom: https://cern.zoom.us/j/63958215
 206?pwd=yMp6Ck00BkHgWIGEbkROMxPaETbvfL.1
LOCATION:
END:VEVENT
END:VCALENDAR
