BEGIN:VCALENDAR
VERSION:2.0
PRODID:-//chikkutakku.com//RDFCal 1.0//EN
X-WR-CALDESC:GoogleカレンダーやiCalendar形式情報を共有シェ
 アしましょう。近所のイベントから全国のイベントま
 で今日のイベント検索やスケジュールを決めるならち
 っくたっく
X-WR-CALNAME:ちっくたっく
X-WR-TIMEZONE:UTC
BEGIN:VEVENT
SUMMARY:[LIVE]渋谷近未来会館
DTSTART;VALUE=DATE:20260521
DTEND;VALUE=DATE:20260522
UID:693729756568
DESCRIPTION:【LIVE情報】\nNUANCE presents\n『 対 』\n■2026年05
 月22日(金)\n■開場18:45 開演19:15\n■渋谷近未来会館\n■
 前売3000円 +1drink\n■出演：NUANCE / NaNoMoRaL\n\n※チケット
 詳細は後日発表
LOCATION:
END:VEVENT
END:VCALENDAR
