BEGIN:VCALENDAR
VERSION:2.0
PRODID:-//chikkutakku.com//RDFCal 1.0//EN
X-WR-CALDESC:GoogleカレンダーやiCalendar形式情報を共有シェ
 アしましょう。近所のイベントから全国のイベントま
 で今日のイベント検索やスケジュールを決めるならち
 っくたっく
X-WR-CALNAME:ちっくたっく
X-WR-TIMEZONE:UTC
BEGIN:VEVENT
SUMMARY:【先着特典】BANG!! / SAVE YOUR HEART / オドロウゼ！ (
 通常盤)(Snow Manロゴ入り箸(約20cm))
DTSTART;VALUE=DATE:20260428
DTEND;VALUE=DATE:20260429
UID:695234161968
DESCRIPTION:2026-04-29【先着特典】BANG!! / SAVE YOUR HEART / オド
 ロウゼ！ (通常盤)(Snow Manロゴ入り箸(約20cm))Snow Man(株)MEN
 T RECORDING
LOCATION:
END:VEVENT
END:VCALENDAR
