BEGIN:VCALENDAR
VERSION:2.0
PRODID:-//chikkutakku.com//RDFCal 1.0//EN
X-WR-CALDESC:GoogleカレンダーやiCalendar形式情報を共有シェ
 アしましょう。近所のイベントから全国のイベントま
 で今日のイベント検索やスケジュールを決めるならち
 っくたっく
X-WR-CALNAME:ちっくたっく
X-WR-TIMEZONE:UTC
BEGIN:VEVENT
SUMMARY:13:30報到 14:00北一區第三次區務會議暨選舉
DTSTART;VALUE=DATE:20260424
DTEND;VALUE=DATE:20260425
UID:696279132436
DESCRIPTION:13:30報到 14:00北一區第三次區務會議暨選舉
LOCATION:富基采儷婚宴會館(新北市淡水區中山北路一段285
 巷6號)
END:VEVENT
END:VCALENDAR
