BEGIN:VCALENDAR
VERSION:2.0
PRODID:-//chikkutakku.com//RDFCal 1.0//EN
X-WR-CALDESC:GoogleカレンダーやiCalendar形式情報を共有シェ
 アしましょう。近所のイベントから全国のイベントま
 で今日のイベント検索やスケジュールを決めるならち
 っくたっく
X-WR-CALNAME:ちっくたっく
X-WR-TIMEZONE:UTC
BEGIN:VEVENT
SUMMARY:13:00AGE
DTSTART;VALUE=DATE:20260424
DTEND;VALUE=DATE:20260425
UID:697918512428
DESCRIPTION:【日時】2026年4月25日（土）一部：START 13:00（
 優先入場 12:45）二部：START 16:00（優先入場 15:45）\n【場
 所】コロワ甲子園屋外スペース コロワガーデン\nリリ
 ース記念イベント
LOCATION:
END:VEVENT
END:VCALENDAR
