BEGIN:VCALENDAR
VERSION:2.0
PRODID:-//chikkutakku.com//RDFCal 1.0//EN
X-WR-CALDESC:GoogleカレンダーやiCalendar形式情報を共有シェ
 アしましょう。近所のイベントから全国のイベントま
 で今日のイベント検索やスケジュールを決めるならち
 っくたっく
X-WR-CALNAME:ちっくたっく
X-WR-TIMEZONE:UTC
BEGIN:VEVENT
SUMMARY:【第32回】ライムちゃん集会
DTSTART;VALUE=DATE-TIME:20260424T130000Z
DTEND;VALUE=DATE-TIME:20260424T140000Z
UID:702061104623
DESCRIPTION:【イベント主催者】\n　ペイリアン（@ peilien_vr
 c）\n【イベント内容】\n　あまとうさぎ様のオリジナル
 3Dモデル「ライム -Lime-」が好きな方・使用している方
 同士の交流を目的としたイベントになります。\nライム
 ちゃんがお好きな方はお気軽にご参加ください！\n【イ
 ベントジャンル】\n　改変アバター交流会\, その他交流
 会\, 定期イベント\n【参加条件（モデル、人数制限など
 ）】\n　あまとうさぎ様のオリジナル3Dモデル「ライム 
 -Lime-」が好きな方・使用している方（サンプルアバタ
 ー使用可）\n【参加方法】\n　「こまどアバターの集い
 （KMDUSR.3818）」へご参加をお願いいたします。\nグルー
 プ＋で開催しておりますので、グループインスタンス
 または主催者「ペイリアン」からJoin\n【備考】\n　▼「
 こまどアバターの集い」へのご参加こちらから\nhttps://t
 .co/rMlx09TM2i\n\n▼ライムちゃんコミュニティへのご参加
 はこちらから\nhttps://t.co/8UhEpouRmo\n\nハッシュタグ\n#ライ
 ムちゃん集会 
LOCATION:
END:VEVENT
END:VCALENDAR
