BEGIN:VCALENDAR
VERSION:2.0
PRODID:-//chikkutakku.com//RDFCal 1.0//EN
X-WR-CALDESC:GoogleカレンダーやiCalendar形式情報を共有シェ
 アしましょう。近所のイベントから全国のイベントま
 で今日のイベント検索やスケジュールを決めるならち
 っくたっく
X-WR-CALNAME:ちっくたっく
X-WR-TIMEZONE:UTC
BEGIN:VEVENT
SUMMARY:【Android 対応】DJイベント「堕落天使:No Clip」
DTSTART;VALUE=DATE-TIME:20260424T130000Z
DTEND;VALUE=DATE-TIME:20260424T145900Z
UID:704505148897
DESCRIPTION:【イベント主催者】\n　HEAVEN\n【イベント内容
 】\n　DJs\n@Dogu_vv\n \n@ruis_sn\n \n@yuvrc1201\n \n@rico_syaka\n【イ
 ベントジャンル】\n　音楽系イベント\n【参加条件（モ
 デル、人数制限など）】\n　特になし\n【参加方法】\n
 　vrc.group/HEAVEN.2358に参加\n【備考】\n　
LOCATION:
END:VEVENT
END:VCALENDAR
