BEGIN:VCALENDAR
VERSION:2.0
PRODID:-//chikkutakku.com//RDFCal 1.0//EN
X-WR-CALDESC:GoogleカレンダーやiCalendar形式情報を共有シェ
 アしましょう。近所のイベントから全国のイベントま
 で今日のイベント検索やスケジュールを決めるならち
 っくたっく
X-WR-CALNAME:ちっくたっく
X-WR-TIMEZONE:UTC
BEGIN:VEVENT
SUMMARY:孤独のグルメ Season11 #4 「神奈川県厚木市本厚木
 のバーニャカウダと脾臓のパニーニ」
DTSTART;VALUE=DATE-TIME:20260424T151200Z
DTEND;VALUE=DATE-TIME:20260424T155200Z
UID:706118545975
DESCRIPTION:4 / 神奈川県厚木市本厚木のバーニャカウダと
 脾臓のパニーニ / 
LOCATION:テレビ東京
END:VEVENT
END:VCALENDAR
