BEGIN:VCALENDAR
VERSION:2.0
PRODID:-//chikkutakku.com//RDFCal 1.0//EN
X-WR-CALDESC:GoogleカレンダーやiCalendar形式情報を共有シェ
 アしましょう。近所のイベントから全国のイベントま
 で今日のイベント検索やスケジュールを決めるならち
 っくたっく
X-WR-CALNAME:ちっくたっく
X-WR-TIMEZONE:UTC
BEGIN:VEVENT
SUMMARY:S352-1001-Chen:Georgia
DTSTART;VALUE=DATE-TIME:20260506T190000Z
DTEND;VALUE=DATE-TIME:20260506T210000Z
UID:714118568328
DESCRIPTION:S352-1001-Chen:Georgia
LOCATION:AB 102
END:VEVENT
END:VCALENDAR
