BEGIN:VCALENDAR
VERSION:2.0
PRODID:-//chikkutakku.com//RDFCal 1.0//EN
X-WR-CALDESC:GoogleカレンダーやiCalendar形式情報を共有シェ
 アしましょう。近所のイベントから全国のイベントま
 で今日のイベント検索やスケジュールを決めるならち
 っくたっく
X-WR-CALNAME:ちっくたっく
X-WR-TIMEZONE:UTC
BEGIN:VEVENT
SUMMARY:【1st】クラブユース選手権予選（かほくG）
DTSTART;VALUE=DATE-TIME:20260523T024500Z
DTEND;VALUE=DATE-TIME:20260523T081500Z
UID:714571528245
DESCRIPTION:11:45　鞍月G出発\n12:45　現地到着\n13:15　アップ
 開始\n14:15　vsセブン湖北\n16:15　審判（主審＋4th）\n16:15
 　現地出発\n17:15　鞍月G解散
LOCATION:石川県サッカー・ラグビー競技場\, 日本、〒929-0
 126 石川県能美市山口町ト−１０３
END:VEVENT
END:VCALENDAR
