BEGIN:VCALENDAR
VERSION:2.0
PRODID:-//chikkutakku.com//RDFCal 1.0//EN
X-WR-CALDESC:GoogleカレンダーやiCalendar形式情報を共有シェ
 アしましょう。近所のイベントから全国のイベントま
 で今日のイベント検索やスケジュールを決めるならち
 っくたっく
X-WR-CALNAME:ちっくたっく
X-WR-TIMEZONE:UTC
BEGIN:VEVENT
SUMMARY:WOWOWプライム「京本大我　ハロー・トニー！in NY
 」[再]（京本大我）
DTSTART;VALUE=DATE-TIME:20260426T063000Z
DTEND;VALUE=DATE-TIME:20260426T070000Z
UID:722559043402
DESCRIPTION:https://www.wowow.co.jp/detail/204171
LOCATION:テレビ
END:VEVENT
END:VCALENDAR
