BEGIN:VCALENDAR
VERSION:2.0
PRODID:-//chikkutakku.com//RDFCal 1.0//EN
X-WR-CALDESC:GoogleカレンダーやiCalendar形式情報を共有シェ
 アしましょう。近所のイベントから全国のイベントま
 で今日のイベント検索やスケジュールを決めるならち
 っくたっく
X-WR-CALNAME:ちっくたっく
X-WR-TIMEZONE:UTC
BEGIN:VEVENT
SUMMARY:●ウラマヨ！[再] 4/28(火)0:45-1:45 関西テレビ(近畿
 広域圏 Ch.8)
DTSTART;VALUE=DATE-TIME:20260428T040000Z
DTEND;VALUE=DATE-TIME:20260428T045900Z
UID:725387793440
DESCRIPTION:●ウラマヨ！[再]\n4/28(火)0:45-1:45 関西テレビ(
 近畿広域圏 Ch.8)\n★関西どうかしてるぜニュース\n▼和
 歌山県にある老舗のケーキ屋さん！ショーケースにた
 たずんでいたのは巨大シュークリーム！しかし、今回
 ウラマヨは「これを超える超巨大シュークリーム作り
 」に挑戦してもらった。結果は、まさかのデカさに！
 ？\nhttps://www.ktv.jp/uramayo/
LOCATION:
END:VEVENT
END:VCALENDAR
