BEGIN:VCALENDAR
VERSION:2.0
PRODID:-//chikkutakku.com//RDFCal 1.0//EN
X-WR-CALDESC:GoogleカレンダーやiCalendar形式情報を共有シェ
 アしましょう。近所のイベントから全国のイベントま
 で今日のイベント検索やスケジュールを決めるならち
 っくたっく
X-WR-CALNAME:ちっくたっく
X-WR-TIMEZONE:UTC
BEGIN:VEVENT
SUMMARY:【Android 対応】セイオワプラネタリウム　星空案
 内＆物語朗読（[せいそのわ]SEIOWA.4482にjoin）
DTSTART;VALUE=DATE-TIME:20260422T130000Z
DTEND;VALUE=DATE-TIME:20260422T140000Z
UID:725987607746
DESCRIPTION:【イベント主催者】\n　-でるふ-\n【イベント
 内容】\n　星空案内＆物語朗読\n\n【イベントジャンル
 】\n　その他交流会\, 定期イベント\n【参加条件（モデ
 ル、人数制限など）】\n　グループインスタンスにて開
 催予定です。参加者が多い場合の負荷にご注意くださ
 い。\n\n【参加方法】\n　イベントグループ[せいそのわ]
 にjoin\n\n【備考】\n　https://x.com/VRC02934813/status/2044716176803
 045792?s=20
LOCATION:
END:VEVENT
END:VCALENDAR
