BEGIN:VCALENDAR
VERSION:2.0
PRODID:-//chikkutakku.com//RDFCal 1.0//EN
X-WR-CALDESC:GoogleカレンダーやiCalendar形式情報を共有シェ
 アしましょう。近所のイベントから全国のイベントま
 で今日のイベント検索やスケジュールを決めるならち
 っくたっく
X-WR-CALNAME:ちっくたっく
X-WR-TIMEZONE:UTC
BEGIN:VEVENT
SUMMARY:Pastoral Office Hours
DTSTART;VALUE=DATE-TIME:20260422T160000Z
DTEND;VALUE=DATE-TIME:20260422T200000Z
UID:730904790464
DESCRIPTION:PastorKristin holds office hours on Wednesdays from 10am-2pm. 
 If walking in\, pleasecall the office at (810) 227-3113 so she knows you a
 re there and can let youin. Beyond this she is available by phone\, email\
 , and by appointment on herregular workdays: Tuesday-Thursday and SundayAr
 e you going through adifficult time\, and need someone to talk to? Are yo
 u dealing with a health issue or medical procedure\, and desire avisit or 
 spiritual support? If you are going through something and in need ofpastor
 al care\, please contact Pastor Kristin at pastorkristinvp@gmail.com or (2
 48) 957-1787.
LOCATION:
END:VEVENT
END:VCALENDAR
