BEGIN:VCALENDAR
VERSION:2.0
PRODID:-//chikkutakku.com//RDFCal 1.0//EN
X-WR-CALDESC:GoogleカレンダーやiCalendar形式情報を共有シェ
 アしましょう。近所のイベントから全国のイベントま
 で今日のイベント検索やスケジュールを決めるならち
 っくたっく
X-WR-CALNAME:ちっくたっく
X-WR-TIMEZONE:UTC
BEGIN:VEVENT
SUMMARY:Bouldering and Beers
DTSTART;VALUE=DATE-TIME:20260424T070000Z
DTEND;VALUE=DATE-TIME:20260424T093000Z
UID:731217646697
DESCRIPTION:Bouldering and Beers
LOCATION:Urban Climb West End\, 2/220 Montague Rd\, West End QLD 4101\, Au
 stralia
END:VEVENT
END:VCALENDAR
