BEGIN:VCALENDAR
VERSION:2.0
PRODID:-//chikkutakku.com//RDFCal 1.0//EN
X-WR-CALDESC:GoogleカレンダーやiCalendar形式情報を共有シェ
 アしましょう。近所のイベントから全国のイベントま
 で今日のイベント検索やスケジュールを決めるならち
 っくたっく
X-WR-CALNAME:ちっくたっく
X-WR-TIMEZONE:UTC
BEGIN:VEVENT
SUMMARY:【第1回】社畜の連成さん集会
DTSTART;VALUE=DATE-TIME:20260521T130000Z
DTEND;VALUE=DATE-TIME:20260521T140000Z
UID:732444021384
DESCRIPTION:【イベント主催者】\n　皇ゆいは\n【イベント
 内容】\n　BOOTHショップ『珍飯亭』より販売されている
 『社畜の連成さん』のアバター集会です\n【イベントジ
 ャンル】\n　改変アバター交流会\n【参加条件（モデル
 、人数制限など）】\n　アバター容量50MB以下\nアバター
 が社畜の連成さんであること\n(サンプルでの参加も可
 能です、ワールド内にペデスタルをご用意しておりま
 す)\n他詳細はグループをご覧下さい\nhttps://vrc.group/TRNR.1
 423\n【参加方法】\n　Group＋インスタンスにjoin\n【備考
 】\n　Xリンク https://x.com/tsuranarisyukai
LOCATION:
END:VEVENT
END:VCALENDAR
