BEGIN:VCALENDAR
VERSION:2.0
PRODID:-//chikkutakku.com//RDFCal 1.0//EN
X-WR-CALDESC:GoogleカレンダーやiCalendar形式情報を共有シェ
 アしましょう。近所のイベントから全国のイベントま
 で今日のイベント検索やスケジュールを決めるならち
 っくたっく
X-WR-CALNAME:ちっくたっく
X-WR-TIMEZONE:UTC
BEGIN:VEVENT
SUMMARY:PP SFoA Cross Country Years 3-8
DTSTART;VALUE=DATE:20260505
DTEND;VALUE=DATE:20260506
UID:733013363536
DESCRIPTION:PP SFoA Cross Country Years 3-8
LOCATION:
END:VEVENT
END:VCALENDAR
