BEGIN:VCALENDAR
VERSION:2.0
PRODID:-//chikkutakku.com//RDFCal 1.0//EN
X-WR-CALDESC:GoogleカレンダーやiCalendar形式情報を共有シェ
 アしましょう。近所のイベントから全国のイベントま
 で今日のイベント検索やスケジュールを決めるならち
 っくたっく
X-WR-CALNAME:ちっくたっく
X-WR-TIMEZONE:UTC
BEGIN:VEVENT
SUMMARY:校本部七、八、十、十一年級段考
DTSTART;VALUE=DATE:20260510
DTEND;VALUE=DATE:20260512
UID:745511505138
DESCRIPTION:校本部七、八、十、十一年級段考
LOCATION:
END:VEVENT
END:VCALENDAR
