BEGIN:VCALENDAR
VERSION:2.0
PRODID:-//chikkutakku.com//RDFCal 1.0//EN
X-WR-CALDESC:GoogleカレンダーやiCalendar形式情報を共有シェ
 アしましょう。近所のイベントから全国のイベントま
 で今日のイベント検索やスケジュールを決めるならち
 っくたっく
X-WR-CALNAME:ちっくたっく
X-WR-TIMEZONE:UTC
BEGIN:VEVENT
SUMMARY:きくちから傑作選「きくちから100回記念！音楽雑
 談大ダイジェスト版総集編！」
DTSTART;VALUE=DATE-TIME:20260421T120000Z
DTEND;VALUE=DATE-TIME:20260421T130000Z
UID:745810646754
DESCRIPTION:start 21:00 / end 22:00\n宮本さん出演回が少し流れ
 そうです。\n\n【関連/参考ページ】\nhttps://bangumi.org/si/-1
 ?si_type=2&program_date=20260421&service_id=0x0135&event_id=13809&from=sha
 re
LOCATION:フジテレビNEXT【日本】
END:VEVENT
END:VCALENDAR
