BEGIN:VCALENDAR
VERSION:2.0
PRODID:-//chikkutakku.com//RDFCal 1.0//EN
X-WR-CALDESC:GoogleカレンダーやiCalendar形式情報を共有シェ
 アしましょう。近所のイベントから全国のイベントま
 で今日のイベント検索やスケジュールを決めるならち
 っくたっく
X-WR-CALNAME:ちっくたっく
X-WR-TIMEZONE:UTC
BEGIN:VEVENT
SUMMARY:【通識】(4/21~4/24) 日間學制中文會考。
DTSTART;VALUE=DATE:20260420
DTEND;VALUE=DATE:20260424
UID:747287047153
DESCRIPTION:【通識】(4/21~4/24) 日間學制中文會考。
LOCATION:
END:VEVENT
END:VCALENDAR
