BEGIN:VCALENDAR
VERSION:2.0
PRODID:-//chikkutakku.com//RDFCal 1.0//EN
X-WR-CALDESC:GoogleカレンダーやiCalendar形式情報を共有シェ
 アしましょう。近所のイベントから全国のイベントま
 で今日のイベント検索やスケジュールを決めるならち
 っくたっく
X-WR-CALNAME:ちっくたっく
X-WR-TIMEZONE:UTC
BEGIN:VEVENT
SUMMARY:【学園型イベント】 VRCAcademy『キャラクターを魅
 せるShader講義～Shaderで学ぶトゥーン表現～』
DTSTART;VALUE=DATE-TIME:20260421T130000Z
DTEND;VALUE=DATE-TIME:20260421T140000Z
UID:749012868374
DESCRIPTION:【イベント主催者】\n　VRCAcademy/ナタネ先生\n
 【イベント内容】\n　一人ひとりの挑戦と成長を支える
 、学びと交流の学園型イベント『VRCAcademy』！\n\n2026年4
 月18日（土）〜5月1日（金）にて\n『第5期 講義集中期間
 』を開講中！\n\n得意分野を伸ばしたい方、次のステッ
 プに挑戦したい方、\nVRChatでの活動を始めたい方へ。\nV
 RCAcademyでは、志を同じくする仲間と出会い、\n講義を通
 して“将来の進路を見つけるきっかけ”を提供する学
 園型イベントです。\n\n本講義では、ナタネ先生による
 『キャラクターを魅せるShader講義～Shaderで学ぶトゥー
 ン表現～』を実施！\nシェーダーに興味ある方必見！\nT
 oonShaderを例に、Unity・VRChatでキャラクターの見た目を大
 きく変えるShaderの仕組みと使い方を、VRChatワールド内
 の体験デモを通して解説します。 \nどなたでもご参加
 いただけます！\n【イベントジャンル】\n　その他交流
 会\n【参加条件（モデル、人数制限など）】\n　・入学
 申し込み／抽選／出席条件すべて不要！どなたでも参
 加OK！\n・インスタンス上限：40名（満員の場合は参加
 不可）\n・軽量アバター（0ポリ／Poor以下）への変更を
 お願いする場合があります\n\n【禁止事項】\n・VRChat規
 約に反するアバターの使用\n・爆音／視界ジャックなど
 迷惑行為\n・差別／セクハラ／誹謗中傷などの行為\n・
 無許可での録音・録画（※撮影は講義ごとのルールに
 準拠）\n【参加方法】\n　① グループ『【公式】VRCAcadem
 y（ID：VRCAO.5583）』に参加\nhttps://vrc.group/VRCAO.5583\n\n② 
 当日、Group＋インスタンスにJoin\n【備考】\n　詳細は公
 式Xをご確認ください！\n公式X：https://x.com/VRC_Academy
LOCATION:
END:VEVENT
END:VCALENDAR
