BEGIN:VCALENDAR
VERSION:2.0
PRODID:-//chikkutakku.com//RDFCal 1.0//EN
X-WR-CALDESC:GoogleカレンダーやiCalendar形式情報を共有シェ
 アしましょう。近所のイベントから全国のイベントま
 で今日のイベント検索やスケジュールを決めるならち
 っくたっく
X-WR-CALNAME:ちっくたっく
X-WR-TIMEZONE:UTC
BEGIN:VEVENT
SUMMARY:定期お笑いライブ「狐笑わせ時」
DTSTART;VALUE=DATE-TIME:20260428T125000Z
DTEND;VALUE=DATE-TIME:20260428T140000Z
UID:751083218826
DESCRIPTION:【イベント主催者】\n　黒崎こぎん\n【イベン
 ト内容】\n　VR夫婦漫才コンビ「X of foX」の定期単独お
 笑いライブです。\n【イベントジャンル】\n　初心者向
 けイベント\, 定期イベント\n【参加条件（モデル、人数
 制限など）】\n　音や光のギミックはオフにしてくださ
 い。\n【参加方法】\n　Group「XOFFOX.4806」に参加、もしく
 はインスタンスにいるフレンドにジョイン\n【備考】\n
 　
LOCATION:
END:VEVENT
END:VCALENDAR
