BEGIN:VCALENDAR
VERSION:2.0
PRODID:-//chikkutakku.com//RDFCal 1.0//EN
X-WR-CALDESC:GoogleカレンダーやiCalendar形式情報を共有シェ
 アしましょう。近所のイベントから全国のイベントま
 で今日のイベント検索やスケジュールを決めるならち
 っくたっく
X-WR-CALNAME:ちっくたっく
X-WR-TIMEZONE:UTC
BEGIN:VEVENT
SUMMARY:【Android 対応】[DJイベント]温冷交代浴 バーチャ
 ル編
DTSTART;VALUE=DATE-TIME:20260424T120000Z
DTEND;VALUE=DATE-TIME:20260424T144000Z
UID:751475949283
DESCRIPTION:【イベント主催者】\n　ミサイル／MIPSYLE\n【イ
 ベント内容】\n　フロア系DJとラウンジ系DJを交互に行
 い、温度差を体感するイベント\n【イベントジャンル】
 \n　音楽系イベント\, 定期イベント\n【参加条件（モデ
 ル、人数制限など）】\n　VeryPoorアバターはお控えくだ
 さい（今後、制限設定する予定です）\n【参加方法】\n
 　グループ「ONREI.6191」または出演者から参加\n【備考
 】\n　https://x.com/onreiDJ/status/2045354081095729282?s=20
LOCATION:
END:VEVENT
END:VCALENDAR
