BEGIN:VCALENDAR
VERSION:2.0
PRODID:-//chikkutakku.com//RDFCal 1.0//EN
X-WR-CALDESC:GoogleカレンダーやiCalendar形式情報を共有シェ
 アしましょう。近所のイベントから全国のイベントま
 で今日のイベント検索やスケジュールを決めるならち
 っくたっく
X-WR-CALNAME:ちっくたっく
X-WR-TIMEZONE:UTC
BEGIN:VEVENT
SUMMARY:Cinco de Mayo Social
DTSTART;VALUE=DATE-TIME:20260505T203000Z
DTEND;VALUE=DATE-TIME:20260506T000000Z
UID:752443332385
DESCRIPTION:Cinco de Mayo Social
LOCATION:Cancun Mexican restaurant Lima\, 2613 Elida Rd\, Lima\, OH 45805\
 , USA
END:VEVENT
END:VCALENDAR
