BEGIN:VCALENDAR
VERSION:2.0
PRODID:-//chikkutakku.com//RDFCal 1.0//EN
X-WR-CALDESC:GoogleカレンダーやiCalendar形式情報を共有シェ
 アしましょう。近所のイベントから全国のイベントま
 で今日のイベント検索やスケジュールを決めるならち
 っくたっく
X-WR-CALNAME:ちっくたっく
X-WR-TIMEZONE:UTC
BEGIN:VEVENT
SUMMARY:【高雄】5/7 貿易條件錯用之風險探討與風險規避 (
  實體/線上 )
DTSTART;VALUE=DATE-TIME:20260506T160000Z
DTEND;VALUE=DATE-TIME:20260507T155959Z
UID:762711805880
DESCRIPTION:【高雄】5/7 貿易條件錯用之風險探討與風險規
 避 ( 實體/線上 )
LOCATION:
END:VEVENT
END:VCALENDAR
