BEGIN:VCALENDAR
VERSION:2.0
PRODID:-//chikkutakku.com//RDFCal 1.0//EN
X-WR-CALDESC:GoogleカレンダーやiCalendar形式情報を共有シェ
 アしましょう。近所のイベントから全国のイベントま
 で今日のイベント検索やスケジュールを決めるならち
 っくたっく
X-WR-CALNAME:ちっくたっく
X-WR-TIMEZONE:UTC
BEGIN:VEVENT
SUMMARY:MAQUIA (マキア) 2026年7月号 [雑誌] 特別版
DTSTART;VALUE=DATE:20260520
DTEND;VALUE=DATE:20260521
UID:764949920034
DESCRIPTION:2026-05-21MAQUIA (マキア) 2026年7月号 [雑誌] 特別版
 集英社
LOCATION:
END:VEVENT
END:VCALENDAR
