BEGIN:VCALENDAR
VERSION:2.0
PRODID:-//chikkutakku.com//RDFCal 1.0//EN
X-WR-CALDESC:GoogleカレンダーやiCalendar形式情報を共有シェ
 アしましょう。近所のイベントから全国のイベントま
 で今日のイベント検索やスケジュールを決めるならち
 っくたっく
X-WR-CALNAME:ちっくたっく
X-WR-TIMEZONE:UTC
BEGIN:VEVENT
SUMMARY:デジモンテイマーズ #45 「デ・リーパーに立ち向
 かえ ゾーン突入！」
DTSTART;VALUE=DATE-TIME:20260421T103000Z
DTEND;VALUE=DATE-TIME:20260421T105700Z
UID:769240920092
DESCRIPTION:45 / デ・リーパーに立ち向かえ ゾーン突入！ /
  
LOCATION:TOKYO MX
END:VEVENT
END:VCALENDAR
