BEGIN:VCALENDAR
VERSION:2.0
PRODID:-//chikkutakku.com//RDFCal 1.0//EN
X-WR-CALDESC:GoogleカレンダーやiCalendar形式情報を共有シェ
 アしましょう。近所のイベントから全国のイベントま
 で今日のイベント検索やスケジュールを決めるならち
 っくたっく
X-WR-CALNAME:ちっくたっく
X-WR-TIMEZONE:UTC
BEGIN:VEVENT
SUMMARY:スノウエルフのお嬢様 春まつり
DTSTART;VALUE=DATE-TIME:20260426T130000Z
DTEND;VALUE=DATE-TIME:20260426T145900Z
UID:771020561179
DESCRIPTION:【イベント主催者】\n　スノウエルフの里（ラ
 イル／Ryle）\n【イベント内容】\n　スノウエルフのお嬢
 様のアバター集会です！スノウエルフちゃんが好きな
 ら誰でも参加OK！お喋りとか楽しみましょう～♪40分毎
 に集合写真的なの撮影予定！\n【イベントジャンル】\n
 　改変アバター交流会\, 定期イベント\n【参加条件（モ
 デル、人数制限など）】\n　スノウエルフのお嬢様もし
 くはその改変アバターもしくはスノウエルフのお嬢様
 が好きであること（サンプルアバターもあるのでお気
 軽にどうぞ）\n【参加方法】\n　スノウエルフの里Group
 （vrc.group/SNOELF.4700）に参加するか「ライル／Ryle」にフ
 レンド申請のうえで時間になったらGroup+インスタンス
 へ！\n【備考】\n　x.com/Wisternear/status/2045436885154337041
LOCATION:
END:VEVENT
END:VCALENDAR
