BEGIN:VCALENDAR
VERSION:2.0
PRODID:-//chikkutakku.com//RDFCal 1.0//EN
X-WR-CALDESC:GoogleカレンダーやiCalendar形式情報を共有シェ
 アしましょう。近所のイベントから全国のイベントま
 で今日のイベント検索やスケジュールを決めるならち
 っくたっく
X-WR-CALNAME:ちっくたっく
X-WR-TIMEZONE:UTC
BEGIN:VEVENT
SUMMARY:呉本通コスモス園でのライブ
DTSTART;VALUE=DATE-TIME:20260524T050000Z
DTEND;VALUE=DATE-TIME:20260524T060000Z
UID:785475154994
DESCRIPTION:呉本通コスモス園でのライブ
LOCATION:特別養護老人ホーム 呉本通コスモス園　呉市本
 通４丁目８−番１２－１０１号
END:VEVENT
END:VCALENDAR
