BEGIN:VCALENDAR
VERSION:2.0
PRODID:-//chikkutakku.com//RDFCal 1.0//EN
X-WR-CALDESC:GoogleカレンダーやiCalendar形式情報を共有シェ
 アしましょう。近所のイベントから全国のイベントま
 で今日のイベント検索やスケジュールを決めるならち
 っくたっく
X-WR-CALNAME:ちっくたっく
X-WR-TIMEZONE:UTC
BEGIN:VEVENT
SUMMARY:学校のウェルビーイング
DTSTART;VALUE=DATE:20260518
DTEND;VALUE=DATE:20260519
UID:788798271486
DESCRIPTION:2026-05-19学校のウェルビーイングアンディ・ハ
 ーグリーブス/デニス・シャーリー/木村優/篠原岳司/秋
 田喜代美金子書房
LOCATION:
END:VEVENT
END:VCALENDAR
