BEGIN:VCALENDAR
VERSION:2.0
PRODID:-//chikkutakku.com//RDFCal 1.0//EN
X-WR-CALDESC:GoogleカレンダーやiCalendar形式情報を共有シェ
 アしましょう。近所のイベントから全国のイベントま
 で今日のイベント検索やスケジュールを決めるならち
 っくたっく
X-WR-CALNAME:ちっくたっく
X-WR-TIMEZONE:UTC
BEGIN:VEVENT
SUMMARY:Select baseball pictures (MPC-Gym) 
DTSTART;VALUE=DATE-TIME:20260426T150000Z
DTEND;VALUE=DATE-TIME:20260426T190000Z
UID:794866790011
DESCRIPTION:Select baseball pictures (MPC-Gym) 
LOCATION:McWilliams Parish Center Gym 
END:VEVENT
END:VCALENDAR
