BEGIN:VCALENDAR
VERSION:2.0
PRODID:-//chikkutakku.com//RDFCal 1.0//EN
X-WR-CALDESC:GoogleカレンダーやiCalendar形式情報を共有シェ
 アしましょう。近所のイベントから全国のイベントま
 で今日のイベント検索やスケジュールを決めるならち
 っくたっく
X-WR-CALNAME:ちっくたっく
X-WR-TIMEZONE:UTC
BEGIN:VEVENT
SUMMARY:1卓ご予約（4名）
DTSTART;VALUE=DATE-TIME:20260421T103000Z
DTEND;VALUE=DATE-TIME:20260421T123000Z
UID:801306735837
DESCRIPTION:1卓ご予約（4名）
LOCATION:
END:VEVENT
END:VCALENDAR
