BEGIN:VCALENDAR
VERSION:2.0
PRODID:-//chikkutakku.com//RDFCal 1.0//EN
X-WR-CALDESC:GoogleカレンダーやiCalendar形式情報を共有シェ
 アしましょう。近所のイベントから全国のイベントま
 で今日のイベント検索やスケジュールを決めるならち
 っくたっく
X-WR-CALNAME:ちっくたっく
X-WR-TIMEZONE:UTC
BEGIN:VEVENT
SUMMARY:ALOHA MARKET～ダイゴローの手づくり市～
DTSTART;VALUE=DATE-TIME:20260518T150000Z
DTEND;VALUE=DATE-TIME:20260518T150000Z
UID:804373027478
DESCRIPTION:京都醍醐のランドマーク的存在パセオダイゴ
 ローで毎月第3土・日曜に開催される手づくり市。タイ
 トルの通りハワイをテーマにしており、一年を通して
 ハワイアンミュージックをBGMに屋内であなただけの1点
 ものを探せます。フラダンスやタヒチアン、音楽ライ
 ブなどのステージイベントも開催。月に1度のプチお祭
 りにようこそ！\nhttp://www.aloaloa.club/
LOCATION:〒601-1375 京都府京都市伏見区醍醐高畑町３０−
 １パセオダイゴロー西館アトリウム２F
END:VEVENT
END:VCALENDAR
